BEGIN:VCALENDAR
VERSION:2.0
PRODID:-//PNWAwana.org - ECPv5.1.2//NONSGML v1.0//EN
CALSCALE:GREGORIAN
METHOD:PUBLISH
X-WR-CALNAME:PNWAwana.org
X-ORIGINAL-URL:https://pnwawana.org
X-WR-CALDESC:Events for PNWAwana.org
BEGIN:VTIMEZONE
TZID:America/Los_Angeles
BEGIN:DAYLIGHT
TZOFFSETFROM:-0800
TZOFFSETTO:-0700
TZNAME:PDT
DTSTART:20260308T100000
END:DAYLIGHT
BEGIN:STANDARD
TZOFFSETFROM:-0700
TZOFFSETTO:-0800
TZNAME:PST
DTSTART:20261101T090000
END:STANDARD
END:VTIMEZONE
BEGIN:VEVENT
DTSTART;TZID=America/Los_Angeles:20260725T150000
DTEND;TZID=America/Los_Angeles:20260801T100000
DTSTAMP:20260420T112032
CREATED:20250912T063907Z
LAST-MODIFIED:20250912T063907Z
UID:2079-1784991600-1785578400@pnwawana.org
SUMMARY:Pacific Northwest Camp - 2026
DESCRIPTION:Camp is designed to deepen your JH or HS camper’s love for God & help them make decisions for Christ through structured days of Team Games\, Worship/Chapel\, and friendship. While here\, campers will experience other dynamic activities unique to Camp and be engaged in age-appropriate Bible Studies\, and cabin devotions which will deepen their love for God and help them make important decisions for Christ. \nYour kid/s don’t want to miss out! \nTheme: Anchored in Christ – Hebrews 6:19 \nRegistration cost: Starts at $450 \nFor more information\, go to: pacificnwcamp.org\nOr visit their FB Page HERE  \nBefore you register: \n\nHere’s some information for parents: Coming Soon!\nFor ALL campers and parents – read this “Welcome Letter”: Coming Soon!\nHighschool – Also read your “Welcome Letter”: Coming Soon!\n\nTo Register\, go to pacificnwcamp.org or click HERE: Coming Soon! \n  \nPowered by: Puget Sound Strategic Ministries \n
URL:https://pnwawana.org/event/pacific-northwest-camp-2026/
LOCATION:Mayfield Lake Youth Camps\, 394 Winston Creek Rd\, Mossy Rock\, WA\, 98564\, United States
CATEGORIES:Camp
ATTACH;FMTTYPE=image/jpeg:https://pnwawana.org/wp-content/uploads/2024/10/DSC5753-scaled.jpg
END:VEVENT
END:VCALENDAR