BEGIN:VCALENDAR
VERSION:2.0
PRODID:-//PNWAwana.org - ECPv5.1.2//NONSGML v1.0//EN
CALSCALE:GREGORIAN
METHOD:PUBLISH
X-WR-CALNAME:PNWAwana.org
X-ORIGINAL-URL:https://pnwawana.org
X-WR-CALDESC:Events for PNWAwana.org
BEGIN:VTIMEZONE
TZID:America/Los_Angeles
BEGIN:DAYLIGHT
TZOFFSETFROM:-0800
TZOFFSETTO:-0700
TZNAME:PDT
DTSTART:20210314T100000
END:DAYLIGHT
BEGIN:STANDARD
TZOFFSETFROM:-0700
TZOFFSETTO:-0800
TZNAME:PST
DTSTART:20211107T090000
END:STANDARD
END:VTIMEZONE
BEGIN:VEVENT
DTSTART;TZID=America/Los_Angeles:20210213T100000
DTEND;TZID=America/Los_Angeles:20210213T140000
DTSTAMP:20260424T085935
CREATED:20200113T000811Z
LAST-MODIFIED:20210107T202754Z
UID:1310-1613210400-1613224800@pnwawana.org
SUMMARY:Trek/Journey Quizzing - Federal Way - POSTPONED
DESCRIPTION:Postponed – More info to come. \n  \nNeed to Register at least 1 week before your Quiz Date (First Come Basis) \nTrek: His Story\nJourney: Disciples \nREGISTRATION \n
URL:https://pnwawana.org/event/trek-journey-quizzing-federal-way-christs-church-february-8th/
LOCATION:Christ’s Church Federal Way\, 941 S. Dash Point Rd.\, Federal Way\, WA\, 98003
CATEGORIES:Bible Quizzing
ATTACH;FMTTYPE=image/png:https://pnwawana.org/wp-content/uploads/2020/01/BQ.png
END:VEVENT
END:VCALENDAR