BEGIN:VCALENDAR
VERSION:2.0
PRODID:-//PNWAwana.org - ECPv5.1.2//NONSGML v1.0//EN
CALSCALE:GREGORIAN
METHOD:PUBLISH
X-WR-CALNAME:PNWAwana.org
X-ORIGINAL-URL:https://pnwawana.org
X-WR-CALDESC:Events for PNWAwana.org
BEGIN:VTIMEZONE
TZID:America/Los_Angeles
BEGIN:DAYLIGHT
TZOFFSETFROM:-0800
TZOFFSETTO:-0700
TZNAME:PDT
DTSTART:20210314T100000
END:DAYLIGHT
BEGIN:STANDARD
TZOFFSETFROM:-0700
TZOFFSETTO:-0800
TZNAME:PST
DTSTART:20211107T090000
END:STANDARD
END:VTIMEZONE
BEGIN:VEVENT
DTSTART;VALUE=DATE:20210313
DTEND;VALUE=DATE:20210314
DTSTAMP:20260422T073114
CREATED:20200113T001010Z
LAST-MODIFIED:20201215T174904Z
UID:1318-1615593600-1615679999@pnwawana.org
SUMMARY:AwanaGames - Vancouver - *CANCELLED
DESCRIPTION:Puget Sound Awana Games – Vancouver Games 2021 – *CANCELLED by COVID \n  \nEvent Day Ticket Prices: $6 – Adults\, & $2 – for all Students (non-participating K-12th grade) \n  \nTeams will need to check-in 1 hour prior to start of games\, per the time schedule below. \nSparks-A-Rama: Check-in 9AM\, Games Start at 10AM \nT&T – Co-Ed: Check-in 10:00AM\, Games Start following the end of Sparks. \n  \nMore information and registration \n  \nPowered by: Puget Sound Strategic Ministries \n
URL:https://pnwawana.org/event/awanagames-sparks-coed-tt-vancouver-first-evangelical-march-14th/
LOCATION:First Evangelical Church\, 4120 NE St. Johns Rd.\, Vancouver\, WA\, 98661
CATEGORIES:AwanaGames
ATTACH;FMTTYPE=image/jpeg:https://pnwawana.org/wp-content/uploads/2020/01/Awana-Games.jpg
END:VEVENT
END:VCALENDAR